BEGIN:VCALENDAR
VERSION:2.0
PRODID:-//PEASC Events - ECPv5.2.1//NONSGML v1.0//EN
CALSCALE:GREGORIAN
METHOD:PUBLISH
X-WR-CALNAME:PEASC Events
X-ORIGINAL-URL:https://events.peaswimclub.co.za
X-WR-CALDESC:Events for PEASC Events
BEGIN:VTIMEZONE
TZID:UTC
BEGIN:STANDARD
TZOFFSETFROM:+0000
TZOFFSETTO:+0000
TZNAME:UTC
DTSTART:20200101T000000
END:STANDARD
END:VTIMEZONE
BEGIN:VEVENT
DTSTART;VALUE=DATE:20201225
DTEND;VALUE=DATE:20201228
DTSTAMP:20260422T102943
CREATED:20201117T044600Z
LAST-MODIFIED:20201117T052217Z
UID:114-1608933600-1609106399@events.peaswimclub.co.za
SUMMARY:Port Elizabeth Open Regional Gala
DESCRIPTION:The annual event key to national selection for all registered swimmers in any stroke.
URL:https://events.peaswimclub.co.za/index.php/event/port-elizabeth-open-regional-gala/
LOCATION:Newton Park Swimming Pool\, 11 2nd Ave & Worraker Street\, Newton Park\, Port Elizabeth\, Eastern Cape Province\, 6045\, South Africa
CATEGORIES:Competition,Gala
ORGANIZER;CN="Megan%20Shute":MAILTO:gala.secretary@peaswimclub.co.za
END:VEVENT
END:VCALENDAR